BEGIN:VCALENDAR
VERSION:2.0
PRODID:-//ExpressionEngine Easy iCalendar plugin//NONSGML v2.0.1//EN
X-WR-TIMEZONE:America/Chicago
X-WR-CALNAME:Upcoming Auctions
BEGIN:VEVENT
UID:160347
DTSTAMP:20260424T170000
DTSTART:20260424T170000
DTEND:20260506T160000
SUMMARY:Day 2 - 28th Annual Spring Lawn & Garden Online Consignment 
 Auction
LOCATION:802 Elm Street\, Watertown\, WI 53098\, US
DESCRIPTION:Auctioneer Stan Jones & the Jones Auction Service team welco
 me you to the 28th Annual Spring Lawn & Garden Consignment 
 Auction in Watertown\, WI. New location for 2026 at our Elm S
 treet Collections Connection Facility!  Featured Items incl
 ude '21 JD Z740R 60" Z Trak\; '21 JD Z545R 60" Z Trak\; '16 JD
  X750 Diesel 54"\; '17 JD X590 48"\; '15 JD X360 42" w/bagger\;
  '18 JD X350 48"\; '87 JD 316 48"\;  '23 JD TS Gator\;  JD 7
 2" Commercial Deck\; (2) Kubota RV X900 UTV's\; '92 Suzuki Qua
 d Runner 250\; Mototec 60cc Dirt Bike\; '89 Sea Nymph 16ft Fis
 hing Boat - Nice!\; Aluma Craft 13ft Boat\; Eagle Run Kayak\; 1
 6ft Aluminum Canoe\; '06 Ford Econoline Van\; (2) '01 GMC C650
 0 Tiltbeds\; Advance SC8000 Rider Scrubber\; Toyota & Hyster E
 lectric Forklifts\; 20ft Shipping Containers\; NEW Patio Furni
 ture Sets\; Custom Made Wood Furniture & Planter Boxes\; NEW M
 etal Lawn Art & Spinners\; 5th Wheel Tailgate & Pinbox\; Utili
 ty Trailer\; Braun Wheel Chair Lift\; Delta Woodworking Power 
 Tools\; Central Machinery 6" Jointer\; Miter Saws\; Briggs Pres
 sure Washer\; Generators\; Ladders\; DeWalt Scroll Saw with Sta
 nd - like new\; Portamate Miter Saw Stand\; Plug Aerator\; Lawn
  Sweepers\, Thatchers & Spreaders\; Stihl Trimmers\; Backpack 
 Blowers\; Push Mowers\; Tillers\; Snow Blowers\; Carpet & Floor 
 Cleaning Equipment\; Pavers\, Edgers\, Wall Block & Brick\; Kimb
 all Piano\; Furniture\; NEW Metal Signs\; Retro Tables\; Antiqu
 es & Collectibles and more Personal Property Items Both Auc
 tions\, Day 1 and Day 2\, are linked meaning only one registra
 tion is needed to bid on both auctions. You will also receiv
 e one invoice for any items you win on either auction.  
URL:https://www.jonesauctionservice.com/auctions/detail/bw160347
SEQUENCE:1
END:VEVENT
END:VCALENDAR