BEGIN:VCALENDAR
VERSION:2.0
PRODID:-//ExpressionEngine Easy iCalendar plugin//NONSGML v2.0.1//EN
X-WR-TIMEZONE:America/Chicago
X-WR-CALNAME:Upcoming Auctions
BEGIN:VEVENT
UID:160345
DTSTAMP:20260424T170000
DTSTART:20260424T170000
DTEND:20260505T150000
SUMMARY:Day 1 - 28th Annual Spring Lawn & Garden Online Consignment 
 Auction
LOCATION:802 Elm Street\, Watertown\, WI 53098\, US
DESCRIPTION:Auctioneer Stan Jones & the Jones Auction Service team welco
 me you to the 28th Annual Spring Lawn & Garden Consignment 
 Auction in Watertown\, WI. New location for 2026 at our Elm S
 treet Collections Connection Facility! Featured on Day 1 is 
 a Semi Load of Nursery Stock including Pines\, Cypress\, Spruc
 e\, Arborvitae\, Douglas Fir\, Red Cedar\, Junipers\, Autumn Bla
 ze\, Maples\, Birch\, Zelkova\, London Plane\, Crabtrees\, Elm\, Bl
 ack Locust\, Chinese Dogwood\, Japanese Maple\, Barberry\, Boxwo
 od\, Daylilies\, Hakone Grass\, Wintercreeper\, Willow\, Lilacs\, 
 Hibiscus\, Ninebark\, Rhododendrons\, Burning Bush\, Cotoneaster
 \, Snowmound\, Euonymous\, Magnolia\, Winter Heath\, Hydrangeas\, 
 Yucca\, Roses\, Smoke Bush\, Sweetspire\, Azaleas\, Liriope\, Dogw
 ood\, Cornus\, Hypericum\, Vibernum\, Horse Chestnut\, Snowbell\, 
 Fescue\, Fern\, Hens and Chicks\, Bugleweed\, Spirea\, Stonecrop\,
  Raspberry\, Blueberry\, Currant\, Grape\, Blackberry\, Elderber
 ry\, Marion Berry\, Apple\, Cherry\, Pear\, Plum! Both Auctions\, 
 Day 1 and Day 2\, are linked meaning only one registration is
  needed to bid on both auctions. You will also receive one i
 nvoice for any items you win on either auction.
URL:https://www.jonesauctionservice.com/auctions/detail/bw160345
SEQUENCE:1
END:VEVENT
END:VCALENDAR