BEGIN:VCALENDAR
VERSION:2.0
PRODID:-//ExpressionEngine Easy iCalendar plugin//NONSGML v2.0.0//EN
X-WR-TIMEZONE:America/Chicago
X-WR-CALNAME:Upcoming Auctions
BEGIN:VEVENT
UID:159211
DTSTAMP:20260421T100000
DTSTART:20260421T100000
DTEND:20260519T140000
SUMMARY:520  and 521 Rockview Ct Watertown
LOCATION:520 Rockview Court\, Watertown\, WI 53094\, US
DESCRIPTION:Rare Double Opportunity – Riverfront Home & Vacant Lot Sel
 ling by Online Auction Register today to bid online for this
  unique offering in Watertown—featuring a 4-bedroom\, 2-bat
 hroom riverfront home on a 0.519-acre lot at 520 Rockview Ct
 \, along with a highly desirable 0.930-acre vacant riverfront
  lot at 521 Rockview Ct. Bidding opens April 21 and closes T
 uesday\, May 19th at 2:00 PM. The home offers approximately 2
 \,663 sq ft of living space with two levels\, including a walk
 out basement that opens to a patio and leads directly to the
  river. Enjoy peaceful waterfront living with your own pier 
 and scenic views of undeveloped forest across the water. The
  property includes ceiling fans\, stove\, refrigerator\, dishwa
 sher\, and washer/dryer\, along with a spacious 2.5-car garage
  and a large backyard extending to the river’s edge—perf
 ect for relaxing\, entertaining\, or enjoying the outdoors. In
  addition to the home\, the adjacent 0.930-acre vacant riverf
 ront lot presents a rare opportunity within the city limits.
  This rolling parcel offers an ideal setting for a custom-bu
 ilt home\, with ample space and beautiful river views. Opport
 unities like this are increasingly limited—this may be one
  of the last chances to secure a buildable riverfront lot in
  the area. Whether you are looking to own a complete riverfr
 ont retreat\, expand your footprint\, or invest in a highly de
 sirable location\, this offering provides flexibility and lon
 g-term potential. Preview Dates: Thursday\, May 7th or Thursd
 ay\, May 14th from 4:00 – 5:30 PM. Bidding requirements and
  Terms & Conditions apply. Click to learn more.
URL:https://www.jonesauctionservice.com/auctions/detail/bw159211
SEQUENCE:1
END:VEVENT
END:VCALENDAR